{ "currentVersion": 11.5, "cimVersion": "3.5.0", "serviceDescription": "
Southland imagery tile package containing rural imagery 2023 (25cm resolution), urban imagery 2023 (10cm resolution), Terralink imagery 2007-2011 (3m resolution) and Sentinel-2 satellite imagery 2021-2022 (10m resolution). Created at levels 1:9,244,649 to 1:1,128<\/span><\/p> <\/p> Terralink imagery is included to cover Fiordland which is not covered by the 2023 imagery.<\/span><\/p> <\/p> Map image layer and cache published from \\\\esgisdata\\GIS_Imagery2\\Create Image Cache 2023<\/span><\/p> Cache located at \\\\esgisdata\\GIS_Imagery2\\IMAGE_CACHE<\/span><\/p><\/div>",
"mapName": "ImageCache2023",
"description": "Southland imagery tile package containing rural imagery 2023 (25cm resolution), urban imagery 2023 (10cm resolution), Terralink imagery 2007-2011 (3m resolution) and Sentinel-2 satellite imagery 2021-2022 (10m resolution). Created at levels 1:9,244,649 to 1:1,128Terralink imagery is included to cover Fiordland which is not covered by the 2023 imagery.Map image layer and cache published from \\\\esgisdata\\GIS_Imagery2\\Create Image Cache 2023Cache located at \\\\esgisdata\\GIS_Imagery2\\IMAGE_CACHE",
"copyrightText": "",
"supportsDynamicLayers": true,
"layers": [
{
"id": 0,
"name": "Mask",
"parentLayerId": -1,
"defaultVisibility": true,
"subLayerIds": null,
"minScale": 0,
"maxScale": 288895.277144,
"type": "Feature Layer",
"geometryType": "esriGeometryPolygon",
"supportsDynamicLegends": true
},
{
"id": 13,
"name": "SouthlandUrbanImagery_2023",
"parentLayerId": -1,
"defaultVisibility": true,
"subLayerIds": [
14,
15,
16
],
"minScale": 36111.909643,
"maxScale": 0,
"type": "Mosaic Layer",
"supportsDynamicLegends": false
},
{
"id": 14,
"name": "Boundary",
"parentLayerId": 13,
"defaultVisibility": false,
"subLayerIds": null,
"minScale": 0,
"maxScale": 0,
"type": "Feature Layer",
"geometryType": "esriGeometryPolygon",
"supportsDynamicLegends": true
},
{
"id": 15,
"name": "Footprint",
"parentLayerId": 13,
"defaultVisibility": false,
"subLayerIds": null,
"minScale": 0,
"maxScale": 0,
"type": "Feature Layer",
"geometryType": "esriGeometryPolygon",
"supportsDynamicLegends": true
},
{
"id": 16,
"name": "Image",
"parentLayerId": 13,
"defaultVisibility": true,
"subLayerIds": null,
"minScale": 0,
"maxScale": 0,
"type": "Raster Layer",
"supportsDynamicLegends": true
},
{
"id": 5,
"name": "SouthlandRuralImagery_2023",
"parentLayerId": -1,
"defaultVisibility": true,
"subLayerIds": [
6,
7,
8
],
"minScale": 72224,
"maxScale": 0,
"type": "Mosaic Layer",
"supportsDynamicLegends": false
},
{
"id": 6,
"name": "Boundary",
"parentLayerId": 5,
"defaultVisibility": false,
"subLayerIds": null,
"minScale": 0,
"maxScale": 0,
"type": "Feature Layer",
"geometryType": "esriGeometryPolygon",
"supportsDynamicLegends": true
},
{
"id": 7,
"name": "Footprint",
"parentLayerId": 5,
"defaultVisibility": false,
"subLayerIds": null,
"minScale": 0,
"maxScale": 0,
"type": "Feature Layer",
"geometryType": "esriGeometryPolygon",
"supportsDynamicLegends": true
},
{
"id": 8,
"name": "Image",
"parentLayerId": 5,
"defaultVisibility": true,
"subLayerIds": null,
"minScale": 0,
"maxScale": 0,
"type": "Raster Layer",
"supportsDynamicLegends": true
},
{
"id": 19,
"name": "Terralink",
"parentLayerId": -1,
"defaultVisibility": true,
"subLayerIds": [
20,
21,
22
],
"minScale": 72223.819286,
"maxScale": 0,
"type": "Mosaic Layer",
"supportsDynamicLegends": false
},
{
"id": 20,
"name": "Boundary",
"parentLayerId": 19,
"defaultVisibility": false,
"subLayerIds": null,
"minScale": 0,
"maxScale": 0,
"type": "Feature Layer",
"geometryType": "esriGeometryPolygon",
"supportsDynamicLegends": true
},
{
"id": 21,
"name": "Footprint",
"parentLayerId": 19,
"defaultVisibility": false,
"subLayerIds": null,
"minScale": 0,
"maxScale": 0,
"type": "Feature Layer",
"geometryType": "esriGeometryPolygon",
"supportsDynamicLegends": true
},
{
"id": 22,
"name": "Image",
"parentLayerId": 19,
"defaultVisibility": true,
"subLayerIds": null,
"minScale": 0,
"maxScale": 0,
"type": "Raster Layer",
"supportsDynamicLegends": true
},
{
"id": 9,
"name": "Sentinel_2_10m_NZTM_2021_2022",
"parentLayerId": -1,
"defaultVisibility": true,
"subLayerIds": [
10,
11,
12
],
"minScale": 9244648.868618,
"maxScale": 564.248588,
"type": "Mosaic Layer",
"supportsDynamicLegends": false
},
{
"id": 10,
"name": "Boundary",
"parentLayerId": 9,
"defaultVisibility": false,
"subLayerIds": null,
"minScale": 0,
"maxScale": 0,
"type": "Feature Layer",
"geometryType": "esriGeometryPolygon",
"supportsDynamicLegends": true
},
{
"id": 11,
"name": "Footprint",
"parentLayerId": 9,
"defaultVisibility": false,
"subLayerIds": null,
"minScale": 0,
"maxScale": 0,
"type": "Feature Layer",
"geometryType": "esriGeometryPolygon",
"supportsDynamicLegends": true
},
{
"id": 12,
"name": "Image",
"parentLayerId": 9,
"defaultVisibility": true,
"subLayerIds": null,
"minScale": 0,
"maxScale": 0,
"type": "Raster Layer",
"supportsDynamicLegends": true
}
],
"tables": [],
"spatialReference": {
"wkid": 2193,
"latestWkid": 2193,
"xyTolerance": 0.001,
"zTolerance": 0.001,
"mTolerance": 0.001,
"falseX": -4020900,
"falseY": 1900,
"xyUnits": 10000,
"falseZ": -100000,
"zUnits": 10000,
"falseM": -100000,
"mUnits": 10000
},
"singleFusedMapCache": true,
"tileInfo": {
"rows": 256,
"cols": 256,
"dpi": 96,
"format": "JPEG",
"compressionQuality": 90,
"origin": {
"x": -4020900,
"y": 19998100
},
"spatialReference": {
"wkid": 2193,
"latestWkid": 2193,
"xyTolerance": 1.0E-4,
"zTolerance": 0.001,
"mTolerance": 0.001,
"falseX": -4020900,
"falseY": 1900,
"xyUnits": 4.504455473910538E8,
"falseZ": -100000,
"zUnits": 10000,
"falseM": -100000,
"mUnits": 10000
},
"lods": [
{
"level": 0,
"resolution": 156543.03392799935,
"scale": 5.91657527591552E8
},
{
"level": 1,
"resolution": 78271.51696399967,
"scale": 2.95828763795776E8
},
{
"level": 2,
"resolution": 39135.75848199984,
"scale": 1.47914381897888E8
},
{
"level": 3,
"resolution": 19567.87924099992,
"scale": 7.3957190948944E7
},
{
"level": 4,
"resolution": 9783.93962049996,
"scale": 3.6978595474472E7
},
{
"level": 5,
"resolution": 4891.96981024998,
"scale": 1.8489297737236E7
},
{
"level": 6,
"resolution": 2445.98490512499,
"scale": 9244648.868618
},
{
"level": 7,
"resolution": 1222.992452562495,
"scale": 4622324.434309
},
{
"level": 8,
"resolution": 611.4962262813797,
"scale": 2311162.217155
},
{
"level": 9,
"resolution": 305.74811314055756,
"scale": 1155581.108577
},
{
"level": 10,
"resolution": 152.87405657041106,
"scale": 577790.554289
},
{
"level": 11,
"resolution": 76.43702828507324,
"scale": 288895.277144
},
{
"level": 12,
"resolution": 38.21851414253662,
"scale": 144447.638572
},
{
"level": 13,
"resolution": 19.10925707126831,
"scale": 72223.819286
},
{
"level": 14,
"resolution": 9.554628535634155,
"scale": 36111.909643
},
{
"level": 15,
"resolution": 4.77731426794937,
"scale": 18055.954822
},
{
"level": 16,
"resolution": 2.388657133974685,
"scale": 9027.977411
},
{
"level": 17,
"resolution": 1.1943285668550503,
"scale": 4513.988705
},
{
"level": 18,
"resolution": 0.5971642835598172,
"scale": 2256.994353
},
{
"level": 19,
"resolution": 0.29858214164761665,
"scale": 1128.497176
},
{
"level": 20,
"resolution": 0.14929107082380833,
"scale": 564.248588
},
{
"level": 21,
"resolution": 0.07464553541190416,
"scale": 282.124294
},
{
"level": 22,
"resolution": 0.03732276770595208,
"scale": 141.062147
},
{
"level": 23,
"resolution": 0.01866138385297604,
"scale": 70.5310735
}
]
},
"storageInfo": {
"storageFormat": "esriMapCacheStorageModeCompactV2",
"packetSize": 128
},
"initialExtent": {
"xmin": 847948.0027302695,
"ymin": 4691845.367592082,
"xmax": 1570125.0459685791,
"ymax": 5159639.9806973385,
"spatialReference": {
"wkid": 2193,
"latestWkid": 2193,
"xyTolerance": 0.001,
"zTolerance": 0.001,
"mTolerance": 0.001,
"falseX": -4020900,
"falseY": 1900,
"xyUnits": 10000,
"falseZ": -100000,
"zUnits": 10000,
"falseM": -100000,
"mUnits": 10000
}
},
"fullExtent": {
"xmin": 1050003.8923000004,
"ymin": 4697618.4238,
"xmax": 1345207.0067999996,
"ymax": 5110124.4035,
"spatialReference": {
"wkid": 2193,
"latestWkid": 2193,
"xyTolerance": 0.001,
"zTolerance": 0.001,
"mTolerance": 0.001,
"falseX": -4020900,
"falseY": 1900,
"xyUnits": 10000,
"falseZ": -100000,
"zUnits": 10000,
"falseM": -100000,
"mUnits": 10000
}
},
"datesInUnknownTimezone": false,
"minScale": 9244648.868618,
"maxScale": 564.248588,
"units": "esriMeters",
"supportedImageFormatTypes": "PNG32,PNG24,PNG,JPG,DIB,TIFF,EMF,PS,PDF,GIF,SVG,SVGZ,BMP",
"documentInfo": {
"Title": "ImageCache2023",
"Author": "",
"Comments": "Southland imagery tile package containing rural imagery 2023 (25cm resolution), urban imagery 2023 (10cm resolution), Terralink imagery 2007-2011 (3m resolution) and Sentinel-2 satellite imagery 2021-2022 (10m resolution). Created at levels 1:9,244,649 to 1:1,128Terralink imagery is included to cover Fiordland which is not covered by the 2023 imagery.Map image layer and cache published from Create \n\t\t\t\tImage Cache 2023Cache located at ",
"Subject": "Southland image cache including aerial imagery captured in 2023",
"Category": "",
"Version": "3.5.0",
"AntialiasingMode": "Fast",
"TextAntialiasingMode": "Force",
"Keywords": "Imagery,Aerial,Basemap,Offline,Southland"
},
"supportsQueryDomains": true,
"capabilities": "Map,Query,Data",
"supportedQueryFormats": "JSON, geoJSON, PBF",
"exportTilesAllowed": false,
"referenceScale": 0.0,
"datumTransformations": [
{
"geoTransforms": [
{
"wkid": 1565,
"latestWkid": 1565,
"transformForward": false,
"name": "NZGD_2000_To_WGS_1984_1"
}
]
},
{
"geoTransforms": [
{
"wkid": 1565,
"latestWkid": 1565,
"transformForward": true,
"name": "NZGD_2000_To_WGS_1984_1"
}
]
}
],
"supportsDatumTransformation": true,
"floorAwareMapProperties": {
"defaultFloorFilterSettings": {"isEnabled": true}
},
"archivingInfo": {"supportsHistoricMoment": false},
"supportsClipping": true,
"supportsSpatialFilter": true,
"supportsTimeRelation": true,
"supportsQueryDataElements": true,
"mapUnits": {"uwkid": 9001},
"maxSelectionCount": 2000,
"maxRecordCount": 2000,
"maxImageHeight": 4096,
"maxImageWidth": 4096,
"supportedExtensions": "",
"resampling": true,
"serviceItemId": "94cf47f4b2b843c1bca419a15b2134ff"
}