View In:
ArcGIS JavaScript
ArcGIS Online Map Viewer
ArcGIS Earth
ArcMap
View Footprint In:
ArcGIS Online Map Viewer
Service Description: LiDAR/OretiActonIrving_Nov2020_NZVD2016_DEM
Name: LiDAR/OretiActonIrving_Nov2020_NZVD2016_DEM
Description:
Single Fused Map Cache: false
Extent:
XMin: 1217873.252
YMin: 4840890.079
XMax: 1245638.252
YMax: 4957281.079
Spatial Reference: 2193
(2193)
LatestVCSWkid(0)
Initial Extent:
XMin: 1217873.252
YMin: 4840890.079
XMax: 1245638.252
YMax: 4957281.079
Spatial Reference: 2193
(2193)
LatestVCSWkid(0)
Full Extent:
XMin: 1217873.252
YMin: 4840890.079
XMax: 1245638.252
YMax: 4957281.079
Spatial Reference: 2193
(2193)
LatestVCSWkid(0)
Pixel Size X: 1.0
Pixel Size Y: 1.0
Band Count: 1
Pixel Type: F32
RasterFunction Infos: {"rasterFunctionInfos": [
{
"name": "None",
"description": "Make a Raster or Raster Dataset into a Function Raster Dataset.",
"help": ""
},
{
"name": "Hillshade",
"description": "Symbolise elevation raster with hillshade effect",
"help": ""
},
{
"name": "Shaded Relief",
"description": "Symbolise elevation raster with hillshade effect and elevation colours",
"help": ""
},
{
"name": "Slope",
"description": "Symbolise elevation raster by slope",
"help": ""
},
{
"name": "Contours",
"description": "Display the DEM as contours",
"help": ""
},
{
"name": "Aspect",
"description": "Colour raster by aspect",
"help": ""
}
]}
Mensuration Capabilities: Basic,3D
Has Histograms: true
Has Colormap: false
Has Multi Dimensions : false
Rendering Rule:
Min Scale: 0
Max Scale: 0
Copyright Text:
Service Data Type: esriImageServiceDataTypeGeneric
Min Values: -8.892999649047852
Max Values: 688.0775146484375
Mean Values: 155.18818898471963
Standard Deviation Values: 138.97798859876087
Object ID Field:
Fields:
None
Default Mosaic Method: Center
Allowed Mosaic Methods:
SortField:
SortValue: null
Mosaic Operator: First
Default Compression Quality: 75
Default Resampling Method: Bilinear
Max Record Count: null
Max Image Height: 4100
Max Image Width: 15000
Max Download Image Count: null
Max Mosaic Image Count: null
Allow Raster Function: true
Allow Copy: true
Allow Analysis: true
Allow Compute TiePoints: false
Supports Statistics: false
Supports Advanced Queries: false
Use StandardizedQueries: true
Raster Type Infos:
Name: Raster Dataset
Description: Supports all ArcGIS Raster Datasets
Help:
Has Raster Attribute Table: false
Edit Fields Info: null
Ownership Based AccessControl For Rasters: null
Child Resources:
Info
Histograms
Statistics
Key Properties
Legend
Raster Function Infos
Supported Operations:
Export Image
Identify
Measure
Compute Histograms
Compute Statistics Histograms
Get Samples
Compute Class Statistics
Query Boundary
Compute Pixel Location
Compute Angles
Validate
Project