{
 "currentVersion": 10.91,
 "serviceDescription": "LiDAR/OretiActonIrving_Nov2020_NZVD2016_DEM",
 "name": "LiDAR/OretiActonIrving_Nov2020_NZVD2016_DEM",
 "description": "",
 "extent": {
  "xmin": 1217873.252,
  "ymin": 4840890.079,
  "xmax": 1245638.252,
  "ymax": 4957281.079,
  "spatialReference": {
   "wkid": 2193,
   "latestWkid": 2193
  }
 },
 "initialExtent": {
  "xmin": 1217873.252,
  "ymin": 4840890.079,
  "xmax": 1245638.252,
  "ymax": 4957281.079,
  "spatialReference": {
   "wkid": 2193,
   "latestWkid": 2193
  }
 },
 "fullExtent": {
  "xmin": 1217873.252,
  "ymin": 4840890.079,
  "xmax": 1245638.252,
  "ymax": 4957281.079,
  "spatialReference": {
   "wkid": 2193,
   "latestWkid": 2193
  }
 },
 "hasMultidimensions": false,
 "pixelSizeX": 1,
 "pixelSizeY": 1,
 "datasetFormat": "FGDBR",
 "uncompressedSize": 12926384460,
 "blockWidth": 128,
 "blockHeight": 128,
 "compressionType": "NONE",
 "bandNames": [
  "Band_1"
 ],
 "allowCopy": true,
 "allowAnalysis": true,
 "bandCount": 1,
 "pixelType": "F32",
 "minPixelSize": 0,
 "maxPixelSize": 0,
 "copyrightText": "",
 "serviceDataType": "esriImageServiceDataTypeGeneric",
 "serviceSourceType": "esriImageServiceSourceTypeDataset",
 "minValues": [
  -8.892999649047852
 ],
 "maxValues": [
  688.0775146484375
 ],
 "meanValues": [
  155.18818898471963
 ],
 "stdvValues": [
  138.97798859876087
 ],
 "objectIdField": "",
 "fields": [],
 "capabilities": "Image,Metadata,Mensuration",
 "defaultMosaicMethod": "Center",
 "allowedMosaicMethods": "",
 "sortField": "",
 "sortValue": null,
 "sortAscending": true,
 "mosaicOperator": "First",
 "defaultCompressionQuality": 75,
 "defaultResamplingMethod": "Bilinear",
 "maxImageHeight": 4100,
 "maxImageWidth": 15000,
 "allowRasterFunction": true,
 "rasterFunctionInfos": [
  {
   "name": "None",
   "description": "Make a Raster or Raster Dataset into a Function Raster Dataset.",
   "help": ""
  },
  {
   "name": "Hillshade",
   "description": "Symbolise elevation raster with hillshade effect",
   "help": ""
  },
  {
   "name": "Shaded Relief",
   "description": "Symbolise elevation raster with hillshade effect and elevation colours",
   "help": ""
  },
  {
   "name": "Slope",
   "description": "Symbolise elevation raster by slope",
   "help": ""
  },
  {
   "name": "Contours",
   "description": "Display the DEM as contours",
   "help": ""
  },
  {
   "name": "Aspect",
   "description": "Colour raster by aspect",
   "help": ""
  }
 ],
 "rasterTypeInfos": [
  {
   "name": "Raster Dataset",
   "description": "Supports all ArcGIS Raster Datasets",
   "help": ""
  }
 ],
 "mensurationCapabilities": "Basic,3D",
 "hasHistograms": true,
 "hasColormap": false,
 "hasRasterAttributeTable": false,
 "minScale": 0,
 "maxScale": 0,
 "exportTilesAllowed": false,
 "supportsStatistics": false,
 "supportsAdvancedQueries": false,
 "editFieldsInfo": null,
 "ownershipBasedAccessControlForRasters": null,
 "allowComputeTiePoints": false,
 "useStandardizedQueries": true,
 "advancedQueryCapabilities": {
  "useStandardizedQueries": true,
  "supportsStatistics": false,
  "supportsOrderBy": false,
  "supportsDistinct": false,
  "supportsPagination": false
 },
 "spatialReference": {
  "wkid": 2193,
  "latestWkid": 2193
 }
}
