{
 "currentVersion": 11.5,
 "serviceDescription": "LiDAR/Southland_2021_2023_NZVD2016_SLOPE_Blr5",
 "serviceItemId": "a738cff750fa4fd08033d5e40e966cb4",
 "name": "LiDAR/Southland_2021_2023_NZVD2016_SLOPE_Blr5",
 "description": "",
 "extent": {
  "xmin": 1147840,
  "ymin": 4792560,
  "xmax": 1315360,
  "ymax": 5043840,
  "spatialReference": {
   "wkid": 2193,
   "latestWkid": 2193
  }
 },
 "initialExtent": {
  "xmin": 1147840,
  "ymin": 4792560,
  "xmax": 1315360,
  "ymax": 5043840,
  "spatialReference": {
   "wkid": 2193,
   "latestWkid": 2193
  }
 },
 "fullExtent": {
  "xmin": 1147840,
  "ymin": 4792560,
  "xmax": 1315360,
  "ymax": 5043840,
  "spatialReference": {
   "wkid": 2193,
   "latestWkid": 2193
  }
 },
 "sortableFields": "",
 "bandCount": 1,
 "pixelType": "F32",
 "minValues": [
  2.42759035096185E-10
 ],
 "maxValues": [
  88.3261947631836
 ],
 "meanValues": [
  14.275429266538
 ],
 "stdvValues": [
  13.603073041771715
 ],
 "serviceProperties": "Center<\/MosaicMethod>First<\/MosaicOperator>true<\/SortAscending><\/LockImageID><\/TileOrderField>0<\/TileOrderBase>0.000000<\/AvgImageSpacingX>0.000000<\/AvgImageSpacingY>0.0<\/ViewPointX>0.0<\/ViewPointY>0.0<\/ViewPointDefShiftX>0.0<\/ViewPointDefShiftY>None<\/CompressionMethod>75<\/CompressionQuality>0.010000<\/CompressionTolerance>Bilinear<\/SamplingMethod><\/ImageServiceProperties><\/ImageServer>",
 "allowedFields": "",
 "hasMultidimensions": false,
 "pixelSizeX": 1,
 "pixelSizeY": 1,
 "meanPixelSize": 1,
 "datasetFormat": "FGDBR",
 "uncompressedSize": 168377702400,
 "blockWidth": 128,
 "blockHeight": 128,
 "compressionType": "NONE",
 "bandNames": [
  "Band_1"
 ],
 "allowCopy": true,
 "allowAnalysis": true,
 "itemAccess": false,
 "inspectionCapabilities": "",
 "minPixelSize": 0,
 "maxPixelSize": 0,
 "copyrightText": "",
 "serviceDataType": "esriImageServiceDataTypeGeneric",
 "serviceSourceType": "esriImageServiceSourceTypeDataset",
 "objectIdField": "",
 "fields": [],
 "capabilities": "Image,Metadata,Mensuration",
 "defaultMosaicMethod": "Center",
 "allowedMosaicMethods": "",
 "sortField": "",
 "sortValue": null,
 "sortAscending": true,
 "mosaicOperator": "First",
 "defaultCompressionQuality": 75,
 "defaultResamplingMethod": "Bilinear",
 "maxImageHeight": 4100,
 "maxImageWidth": 15000,
 "allowRasterFunction": true,
 "rasterFunctionInfos": [
  {
   "name": "None",
   "description": "Make a Raster or Raster Dataset into a Function Raster Dataset.",
   "help": ""
  },
  {
   "name": "Freshwater farm plan slope",
   "description": "1m resolution DEM converted to slope then classified as two classes, 10 to 15 degrees and greater than 15 degrees",
   "help": ""
  },
  {
   "name": "Intensive winter grazing slope",
   "description": "1m resolution DEM converted to slope then classified as two classes, <=10 degrees and >10 degrees",
   "help": ""
  },
  {
   "name": "Category C discharge area slope",
   "description": "1m resolution DEM converted to slope then classified as two classes, <=7 degrees and >7 degrees",
   "help": ""
  },
  {
   "name": "Southland FEMP slope",
   "description": "1m resolution DEM converted to slope then classified as three classes, ≤7 degrees, >7 and ≤20 degrees and greater than 20 degrees",
   "help": ""
  }
 ],
 "rasterTypeInfos": [
  {
   "name": "Raster Dataset",
   "description": "Supports all ArcGIS Raster Datasets",
   "help": ""
  }
 ],
 "mensurationCapabilities": "Basic",
 "hasHistograms": true,
 "hasColormap": false,
 "hasRasterAttributeTable": false,
 "minScale": 0,
 "maxScale": 0,
 "exportTilesAllowed": false,
 "supportsStatistics": false,
 "supportsAdvancedQueries": false,
 "editFieldsInfo": null,
 "ownershipBasedAccessControlForRasters": null,
 "allowComputeTiePoints": false,
 "useStandardizedQueries": true,
 "advancedQueryCapabilities": {
  "useStandardizedQueries": true,
  "supportsStatistics": false,
  "supportsOrderBy": false,
  "supportsDistinct": false,
  "supportsPagination": false
 },
 "spatialReference": {
  "wkid": 2193,
  "latestWkid": 2193
 }
}
