View In:
ArcGIS JavaScript
ArcGIS Online Map Viewer
ArcGIS Earth
Service Description: Digital elevation model at 1m resolution. Created from LiDAR captured between 2020 and 2023.
Digital elevation model covering final and accepted DEM tiles supplied for the PGF project.
The layer includes processing templates to display the data as:
- Elevation (default)
- Hillshade
- Shaded relief
- Contours (without labels)
- Aspect
Slope layers have also been generated from this DEM. You can find them here: slope and
smoothed slope.
Please note the following specifications for the LiDAR on which the ground height information is derived.
- Height accuracy: +/- 0.2 metre @ 95% confidence level
- Projection and datum: New Zealand Transverse Mercator (NZTM2000) / New Zealand Vertical Datum (NZVD2016)
- Point density: nominal 4 points per square metre
While every effort has been made to ensure the ground height information is accurate, Environment Southland does not accept any responsibility or liability for errors in the ground height information. The use of the ground height information is at the user's own risk. If the accuracy of the ground height information is critical to its use, for example, but not restricted to, construction works then the ground height should be confirmed by survey.
Process to create:
- Create mosaic dataset
- Add rasters
- Calculate statistics
- Build overviews
- Add raster function
- Share as image service
Mosaic created and published 23/05/2023
Last updated 27/06/2024
Name: LiDAR/Southland_2021_2023_NZVD2016_DEM
Description: Digital elevation model at 1m resolution. Created from LiDAR captured between 2020 and 2023.
Digital elevation model covering final and accepted DEM tiles supplied for the PGF project.
The layer includes processing templates to display the data as:
- Elevation (default)
- Hillshade
- Shaded relief
- Contours (without labels)
- Aspect
Slope layers have also been generated from this DEM. You can find them here: slope and
smoothed slope.
Please note the following specifications for the LiDAR on which the ground height information is derived.
- Height accuracy: +/- 0.2 metre @ 95% confidence level
- Projection and datum: New Zealand Transverse Mercator (NZTM2000) / New Zealand Vertical Datum (NZVD2016)
- Point density: nominal 4 points per square metre
While every effort has been made to ensure the ground height information is accurate, Environment Southland does not accept any responsibility or liability for errors in the ground height information. The use of the ground height information is at the user's own risk. If the accuracy of the ground height information is critical to its use, for example, but not restricted to, construction works then the ground height should be confirmed by survey.
Process to create:
- Create mosaic dataset
- Add rasters
- Calculate statistics
- Build overviews
- Add raster function
- Share as image service
Mosaic created and published 23/05/2023
Last updated 27/06/2024
Single Fused Map Cache: false
Extent:
XMin: 1147840.0
YMin: 4792560.0
XMax: 1315360.0
YMax: 5043840.0
Spatial Reference: 2193
(2193)
LatestVCSWkid(0)
Initial Extent:
XMin: 1147840.0
YMin: 4792560.0
XMax: 1315360.0
YMax: 5043840.0
Spatial Reference: 2193
(2193)
LatestVCSWkid(0)
Full Extent:
XMin: 1147840.0
YMin: 4792560.0
XMax: 1315360.0
YMax: 5043840.0
Spatial Reference: 2193
(2193)
LatestVCSWkid(0)
Pixel Size X: 1.0
Pixel Size Y: 1.0
Band Count: 1
Pixel Type: F32
RasterFunction Infos: {"rasterFunctionInfos": [
{
"name": "None",
"description": "Make a Raster or Raster Dataset into a Function Raster Dataset.",
"help": ""
},
{
"name": "Hillshade",
"description": "Symbolise elevation raster with hillshade effect",
"help": ""
},
{
"name": "Shaded Relief",
"description": "Symbolise elevation raster with hillshade effect and elevation colours",
"help": ""
},
{
"name": "Contours",
"description": "Display the DEM as contours",
"help": ""
},
{
"name": "Aspect Colourmap symbology",
"description": "A raster function template that creates a coloured aspect map",
"help": ""
},
{
"name": "Aspect over 3 degrees",
"description": "View aspect symbolised by N, NE, E, SE, S, SW, W, NW where slope is greater than 3 degrees.",
"help": ""
}
]}
Mensuration Capabilities: None
Inspection Capabilities:
Has Histograms: true
Has Colormap: false
Has Multi Dimensions : false
Rendering Rule:
Min Scale: 0
Max Scale: 0
Resampling: false
Copyright Text:
Service Data Type: esriImageServiceDataTypeGeneric
Min Values: -3.36299991607666
Max Values: 2470.216064453125
Mean Values: 402.98344698473244
Standard Deviation Values: 393.324556827428
Object ID Field: OBJECTID
Fields:
-
OBJECTID
(
type: esriFieldTypeOID, alias: OBJECTID
)
-
Shape
(
type: esriFieldTypeGeometry, alias: Shape
)
-
Name
(
type: esriFieldTypeString, alias: Name, length: 200
)
-
MinPS
(
type: esriFieldTypeDouble, alias: MinPS
)
-
MaxPS
(
type: esriFieldTypeDouble, alias: MaxPS
)
-
LowPS
(
type: esriFieldTypeDouble, alias: LowPS
)
-
HighPS
(
type: esriFieldTypeDouble, alias: HighPS
)
-
Category
(
type: esriFieldTypeInteger, alias: Category
, Coded Values:
[0: Unknown]
, [1: Primary]
, [2: Overview]
, ...6 more...
)
-
Tag
(
type: esriFieldTypeString, alias: Tag, length: 100
)
-
GroupName
(
type: esriFieldTypeString, alias: GroupName, length: 100
)
-
ProductName
(
type: esriFieldTypeString, alias: ProductName, length: 100
)
-
CenterX
(
type: esriFieldTypeDouble, alias: CenterX
)
-
CenterY
(
type: esriFieldTypeDouble, alias: CenterY
)
-
ZOrder
(
type: esriFieldTypeInteger, alias: ZOrder
)
-
Shape_Length
(
type: esriFieldTypeDouble, alias: Shape_Length
)
-
Shape_Area
(
type: esriFieldTypeDouble, alias: Shape_Area
)
-
DateCaptured
(
type: esriFieldTypeString, alias: Date captured, length: 255
)
Default Mosaic Method: Northwest
Allowed Mosaic Methods: NorthWest,Center,LockRaster,ByAttribute,Nadir,Viewpoint,Seamline,None
SortField:
SortValue: null
Mosaic Operator: First
Default Compression Quality: 75
Default Resampling Method: Bilinear
Max Record Count: 1000
Max Image Height: 4100
Max Image Width: 15000
Max Download Image Count: 20
Max Mosaic Image Count: 20
Allow Raster Function: true
Allow Copy: true
Allow Analysis: true
Allow Compute TiePoints: false
Supports Statistics: true
Supports Advanced Queries: true
Use StandardizedQueries: true
Raster Type Infos:
Name: Raster Dataset
Description: Supports all ArcGIS Raster Datasets
Help:
Has Raster Attribute Table: false
Edit Fields Info: null
Ownership Based AccessControl For Rasters: null
Child Resources:
Info
Histograms
Statistics
Key Properties
Legend
Raster Function Infos
Supported Operations:
Export Image
Query
Identify
Compute Histograms
Compute Statistics Histograms
Get Samples
Compute Class Statistics
Query GPS Info
Find Images
Image to Map
Map to Image
Measure from Image
Image to Map Multiray
Query Boundary
Compute Pixel Location
Compute Angles
Validate
Project