View In:
ArcGIS JavaScript
ArcGIS Online Map Viewer
ArcGIS Earth
ArcGIS Pro
Service Description: <div style='text-align:Left;font-size:12pt'><p><span>Southland imagery tile package containing rural imagery 2023 (25cm resolution), urban imagery 2023 (10cm resolution), Terralink imagery 2007-2011 (3m resolution) and Sentinel-2 satellite imagery 2021-2022 (10m resolution). Created at levels 1:9,244,649 to 1:1,128</span></p><p><span /></p><p><span>Terralink imagery is included to cover Fiordland which is not covered by the 2023 imagery.</span></p><p><span /></p><p><span>Map image layer and cache published from \\esgisdata\GIS_Imagery2\Create Image Cache 2023</span></p><p><span>Cache located at \\esgisdata\GIS_Imagery2\IMAGE_CACHE</span></p></div>
Map Name: ImageCache2023
Legend
All Layers and Tables
Dynamic Legend
Dynamic All Layers
Layers:
Description: Southland imagery tile package containing rural imagery 2023 (25cm resolution), urban imagery 2023 (10cm resolution), Terralink imagery 2007-2011 (3m resolution) and Sentinel-2 satellite imagery 2021-2022 (10m resolution). Created at levels 1:9,244,649 to 1:1,128Terralink imagery is included to cover Fiordland which is not covered by the 2023 imagery.Map image layer and cache published from \\esgisdata\GIS_Imagery2\Create Image Cache 2023Cache located at \\esgisdata\GIS_Imagery2\IMAGE_CACHE
Service Item Id: 94cf47f4b2b843c1bca419a15b2134ff
Copyright Text:
Spatial Reference:
2193
(2193)
LatestVCSWkid(0)
Single Fused Map Cache: true
Tile Info:
- Height: 256.0
- Width: 256.0
- DPI: 96.0
-
Levels of Detail: 24
-
Level ID: 0
[ Start Tile, End Tile ]
- Resolution: 156543.03392799935
- Scale: 5.91657527591552E8
-
Level ID: 1
[ Start Tile, End Tile ]
- Resolution: 78271.51696399967
- Scale: 2.95828763795776E8
-
Level ID: 2
[ Start Tile, End Tile ]
- Resolution: 39135.75848199984
- Scale: 1.47914381897888E8
-
Level ID: 3
[ Start Tile, End Tile ]
- Resolution: 19567.87924099992
- Scale: 7.3957190948944E7
-
Level ID: 4
[ Start Tile, End Tile ]
- Resolution: 9783.93962049996
- Scale: 3.6978595474472E7
-
Level ID: 5
[ Start Tile, End Tile ]
- Resolution: 4891.96981024998
- Scale: 1.8489297737236E7
- Format: JPEG
- Compression Quality: 90.0
- Origin: X: -4020900.0
Y: 1.99981E7
- Spatial Reference: 2193
(2193)
LatestVCSWkid(0)
Storage Info:
- Storage Format: esriMapCacheStorageModeCompactV2
- Packet Size: 128
Initial Extent:
XMin: 847948.0027302695
YMin: 4691845.367592082
XMax: 1570125.0459685791
YMax: 5159639.9806973385
Spatial Reference: 2193
(2193)
LatestVCSWkid(0)
Full Extent:
XMin: 1050003.8923000004
YMin: 4697618.4238
XMax: 1345207.0067999996
YMax: 5110124.4035
Spatial Reference: 2193
(2193)
LatestVCSWkid(0)
Units: esriMeters
Supported Image Format Types: PNG32,PNG24,PNG,JPG,DIB,TIFF,EMF,PS,PDF,GIF,SVG,SVGZ,BMP
Document Info:
Title: ImageCache2023
Author:
Comments: Southland imagery tile package containing rural imagery 2023 (25cm resolution), urban imagery 2023 (10cm resolution), Terralink imagery 2007-2011 (3m resolution) and Sentinel-2 satellite imagery 2021-2022 (10m resolution). Created at levels 1:9,244,649 to 1:1,128Terralink imagery is included to cover Fiordland which is not covered by the 2023 imagery.Map image layer and cache published from Create
Image Cache 2023Cache located at
Subject: Southland image cache including aerial imagery captured in 2023
Category:
Keywords: Imagery,Aerial,Basemap,Offline,Southland
AntialiasingMode: Fast
TextAntialiasingMode: Force
Supports Dynamic Layers: true
Resampling: true
MaxRecordCount: 2000
MaxSelectionCount: 2000
MaxImageHeight: 4096
MaxImageWidth: 4096
Supported Query Formats: JSON, geoJSON, PBF
Supports Query Data Elements: true
Min Scale: 9244648.868618
Max Scale: 564.248588
Supports Datum Transformation: true
Child Resources:
Info
Dynamic Layer
Supported Operations:
Export Map
Identify
QueryLegends
QueryDomains
Find
Return Updates