View In:
ArcGIS JavaScript
ArcGIS Online Map Viewer
ArcGIS Earth
Service Description: LiDAR/Southland_2021_2023_NZVD2016_SLOPE_Blr5
Name: LiDAR/Southland_2021_2023_NZVD2016_SLOPE_Blr5
Description:
Single Fused Map Cache: false
Extent:
XMin: 1147840.0
YMin: 4792560.0
XMax: 1315360.0
YMax: 5043840.0
Spatial Reference: 2193
(2193)
LatestVCSWkid(0)
Initial Extent:
XMin: 1147840.0
YMin: 4792560.0
XMax: 1315360.0
YMax: 5043840.0
Spatial Reference: 2193
(2193)
LatestVCSWkid(0)
Full Extent:
XMin: 1147840.0
YMin: 4792560.0
XMax: 1315360.0
YMax: 5043840.0
Spatial Reference: 2193
(2193)
LatestVCSWkid(0)
Pixel Size X: 1.0
Pixel Size Y: 1.0
Band Count: 1
Pixel Type: F32
RasterFunction Infos: {"rasterFunctionInfos": [
{
"name": "None",
"description": "Make a Raster or Raster Dataset into a Function Raster Dataset.",
"help": ""
},
{
"name": "Freshwater farm plan slope",
"description": "1m resolution DEM converted to slope then classified as two classes, 10 to 15 degrees and greater than 15 degrees",
"help": ""
},
{
"name": "Intensive winter grazing slope",
"description": "1m resolution DEM converted to slope then classified as two classes, <=10 degrees and >10 degrees",
"help": ""
},
{
"name": "Category C discharge area slope",
"description": "1m resolution DEM converted to slope then classified as two classes, <=7 degrees and >7 degrees",
"help": ""
},
{
"name": "Southland FEMP slope",
"description": "1m resolution DEM converted to slope then classified as three classes, ≤7 degrees, >7 and ≤20 degrees and greater than 20 degrees",
"help": ""
}
]}
Mensuration Capabilities: Basic
Inspection Capabilities:
Has Histograms: true
Has Colormap: false
Has Multi Dimensions : false
Rendering Rule:
Min Scale: 0
Max Scale: 0
Copyright Text:
Service Data Type: esriImageServiceDataTypeGeneric
Min Values: 2.42759035096185E-10
Max Values: 88.3261947631836
Mean Values: 14.275429266538
Standard Deviation Values: 13.603073041771715
Object ID Field:
Fields:
None
Default Mosaic Method: Center
Allowed Mosaic Methods:
SortField:
SortValue: null
Mosaic Operator: First
Default Compression Quality: 75
Default Resampling Method: Bilinear
Max Record Count: null
Max Image Height: 4100
Max Image Width: 15000
Max Download Image Count: null
Max Mosaic Image Count: null
Allow Raster Function: true
Allow Copy: true
Allow Analysis: true
Allow Compute TiePoints: false
Supports Statistics: false
Supports Advanced Queries: false
Use StandardizedQueries: true
Raster Type Infos:
Name: Raster Dataset
Description: Supports all ArcGIS Raster Datasets
Help:
Has Raster Attribute Table: false
Edit Fields Info: null
Ownership Based AccessControl For Rasters: null
Child Resources:
Info
Histograms
Statistics
Key Properties
Legend
Raster Function Infos
Supported Operations:
Export Image
Identify
Measure
Compute Histograms
Compute Statistics Histograms
Get Samples
Compute Class Statistics
Query Boundary
Compute Pixel Location
Compute Angles
Validate
Project